BEGIN:VCALENDAR
VERSION:2.0
PRODID:-//Tukios.com/
BEGIN:VEVENT
UID:c2f11f79-dfb4-48db-aab5-07f6cfdeed1b@www.whbfamily.com
DTSTAMP:20260423T005923Z
DTSTART:20260424T230000Z
DTEND:20260425T010000Z
SUMMARY:Visitation
DESCRIPTION:
URL:https://www.whbfamily.com/obituaries/corene-haney
LOCATION: 6101 Bosque Blvd  Waco TX 76710
GEO:31.5307104;-97.1989739
END:VEVENT
END:VCALENDAR