BEGIN:VCALENDAR
VERSION:2.0
PRODID:-//Tukios.com/
BEGIN:VEVENT
UID:272c543d-bc89-4e7f-89fc-279d42e171d6@www.whbfamily.com
DTSTAMP:20260423T010045Z
DTSTART:20260425T230000Z
DTEND:20260426T000000Z
SUMMARY:Celebration of Life
DESCRIPTION:
URL:https://www.whbfamily.com/obituaries/corene-haney
LOCATION:Redeemer Waco 2501 Redeemer Way  Waco TX 76712
GEO:31.4708876;-97.2301263
END:VEVENT
END:VCALENDAR