BEGIN:VCALENDAR
VERSION:2.0
PRODID:-//Tukios.com/
BEGIN:VEVENT
UID:7215279e-4743-40c8-9d48-8e3c67297185@www.whbfamily.com
DTSTAMP:20260422T021526Z
DTSTART:20260425T190000Z
DTEND:20260425T200000Z
SUMMARY:Graveside Service
DESCRIPTION:
URL:https://www.whbfamily.com/obituaries/mary-holloway
LOCATION:Oakwood Cemetery 2124 South 5th Street  Waco TX 76706
GEO:31.5356659;-97.1083488
END:VEVENT
END:VCALENDAR