BEGIN:VCALENDAR
VERSION:2.0
PRODID:-//Tukios.com/
BEGIN:VEVENT
UID:50ce26fd-35f9-474b-b339-463a0ec4ea7b@www.whbfamily.com
DTSTAMP:20260424T212024Z
DTSTART:20260428T230000Z
DTEND:20260429T010000Z
SUMMARY:Visitation
DESCRIPTION:
URL:https://www.whbfamily.com/obituaries/pauline-tankersley
LOCATION:Wilkirson-Hatch-Bailey Funeral Home 6101 Bosque Blvd  Waco TX 
	76710
GEO:31.5307104;-97.1989739
END:VEVENT
END:VCALENDAR