BEGIN:VCALENDAR
VERSION:2.0
PRODID:-//Tukios.com/
BEGIN:VEVENT
UID:a575edaf-dce2-429b-b792-aa9b66644d6b@www.whbfamily.com
DTSTAMP:20260424T212115Z
DTSTART:20260429T180000Z
DTEND:20260429T190000Z
SUMMARY:Mass
DESCRIPTION:
URL:https://www.whbfamily.com/obituaries/pauline-tankersley
LOCATION:St. Mary's Catholic Church of the Assumption 1401 Washington 
	Avenue  Waco TX 76701
GEO:31.55093;-97.1409253
END:VEVENT
END:VCALENDAR