BEGIN:VCALENDAR
VERSION:2.0
PRODID:-//Tukios.com/
BEGIN:VEVENT
UID:128f7484-9d90-4d52-8407-140b0b2a5c35@www.whbfamily.com
DTSTAMP:20260424T170823Z
DTSTART:20260427T230000Z
DTEND:20260428T010000Z
SUMMARY:Visitation
DESCRIPTION:
URL:https://www.whbfamily.com/obituaries/wendell-mackey
LOCATION:Wilkirson-Hatch-Bailey Funeral Home 6101 Bosque Blvd  Waco TX 
	76710
GEO:31.5307104;-97.1989739
END:VEVENT
END:VCALENDAR