BEGIN:VCALENDAR
VERSION:2.0
PRODID:-//Tukios.com/
BEGIN:VEVENT
UID:423f1be2-d949-4dc0-b49d-07b58aa7f58b@www.whbfamily.com
DTSTAMP:20260424T171316Z
DTSTART:20260428T180000Z
DTEND:20260428T190000Z
SUMMARY:Funeral Service
DESCRIPTION:
URL:https://www.whbfamily.com/obituaries/wendell-mackey
LOCATION:Victorious Life Church 7459 Interstate 35  Waco TX 76706
GEO:31.4641579;-97.1675877
END:VEVENT
END:VCALENDAR