BEGIN:VCALENDAR
VERSION:2.0
PRODID:-//Tukios.com/
BEGIN:VEVENT
UID:177c1a2e-5f67-445d-aa7c-addc0b331ff0@www.whbfamily.com
DTSTAMP:20260424T171408Z
DTSTART:20260429T140000Z
DTEND:20260429T150000Z
SUMMARY:Interment
DESCRIPTION:
URL:https://www.whbfamily.com/obituaries/wendell-mackey
LOCATION:Central Texas State Veterans Cemetery 11463 TX-195  Killeen TX 
	76542
GEO:31.0263298;-97.7581803
END:VEVENT
END:VCALENDAR